BEGIN:VCALENDAR
VERSION:2.0
PRODID:-//ChamberMaster//Event Calendar 2.0//EN
METHOD:PUBLISH
X-PUBLISHED-TTL:P3D
REFRESH-INTERVAL:P3D
CALSCALE:GREGORIAN
BEGIN:VEVENT
DTSTART:20250309T170000Z
DTEND:20250309T190000Z
X-MICROSOFT-CDO-ALLDAYEVENT:FALSE
SUMMARY:March Puzzle Challenge
DESCRIPTION:Join us at Painted Prairie for a March Puzzle Challenge on Sunday\, March 9th at 12:00 noon.\n\nTeam sizes of four or less will face off against other teams completing a 500-piece puzzle in an hour 1/2. Prizes will be given to 1st and 2nd place teams.\n\nCost is $45 per team. This includes the puzzle to take home and a bottle of wine for your team to enjoy during the challenge or to take home. Cheers!\n\nPlease note: If your team plans to eat\, please arrive at least 30 minutes prior to the start to ensure you get to enjoy your food before the challenge begin
X-ALT-DESC;FMTTYPE=text/html:<div>Join us at Painted Prairie for a March Puzzle Challenge on Sunday\, March 9th at 12:00 noon.</div>\n\n<div>Team sizes of four or less will face off against other teams completing a 500-piece puzzle in an hour 1/2. Prizes will be given to 1st and 2nd place teams.</div>\n\n<div>Cost is $45 per team. This includes the puzzle to take home and a bottle of wine for your team to enjoy during the challenge or to take home. Cheers!</div>\n\n<div>Please note: If your team plans to eat\, please arrive at least 30 minutes prior to the start to ensure you get to enjoy your food before the challenge begin</div>\n
LOCATION:Painted Prairie Vineyard 1575 250th Ave. Currie\, MN 56123
UID:e.499.21979
SEQUENCE:3
DTSTAMP:20260423T155240Z
URL:https://business.marshallmn.org/events/details/march-puzzle-challenge-03-09-2025-21979
END:VEVENT

END:VCALENDAR
