BEGIN:VCALENDAR
VERSION:2.0
PRODID:-//ChamberMaster//Event Calendar 2.0//EN
METHOD:PUBLISH
X-PUBLISHED-TTL:P3D
REFRESH-INTERVAL:P3D
CALSCALE:GREGORIAN
BEGIN:VEVENT
DTSTART:20251003T150000Z
DTEND:20251004T230000Z
X-MICROSOFT-CDO-ALLDAYEVENT:FALSE
SUMMARY:Lyndwood Antiques Grand Opening
DESCRIPTION:Lyndwood Antiques' Grand Opening is happening on Friday and Saturday\, October 3-4\, from 10:00 a.m. to 6:00 p.m.! Open to the Public 2 Days Only!! Thousands of Antiques & Collectibles to choose from! Great Deals! Door Prizes! All other viewings by Appointment until our November sale. You Do Not want to miss this!
X-ALT-DESC;FMTTYPE=text/html:Lyndwood Antiques&#39\; Grand Opening is happening on Friday and Saturday\, October 3-4\, from 10:00 a.m. to 6:00 p.m.! Open to the Public 2 Days Only!! Thousands of Antiques &amp\; Collectibles to choose from! Great Deals! Door Prizes! All other viewings by Appointment until our November sale. You Do Not want to miss this!
LOCATION:106 East Railroad St\, Lynd\, MN 56157
UID:e.499.22481
SEQUENCE:3
DTSTAMP:20260423T231620Z
URL:https://business.marshallmn.org/events/details/lyndwood-antiques-grand-opening-22481
END:VEVENT

END:VCALENDAR
