BEGIN:VCALENDAR
VERSION:2.0
PRODID:-//ChamberMaster//Event Calendar 2.0//EN
METHOD:PUBLISH
X-PUBLISHED-TTL:P3D
REFRESH-INTERVAL:P3D
CALSCALE:GREGORIAN
BEGIN:VEVENT
DTSTART:20250705T230000Z
DTEND:20250706T020000Z
X-MICROSOFT-CDO-ALLDAYEVENT:FALSE
SUMMARY:Live Music featuring the Singing Q's
DESCRIPTION:Join us on July 5th from 6-9 p.m. as we welcome back the Singing Q's to the Vineyard.   Free admission\, come on out and enjoy good drinks and woodfire pizzas!  Cheers!
X-ALT-DESC;FMTTYPE=text/html:Join us on July 5th from 6-9 p.m. as we welcome back the Singing Q&#39\;s to the Vineyard.&nbsp\; &nbsp\;Free admission\, come on out and enjoy good drinks and woodfire pizzas!&nbsp\; Cheers!
LOCATION:Painted Prairie Vineyard 1575 250th Ave. Currie\, MN 56123
UID:e.499.22289
SEQUENCE:3
DTSTAMP:20260424T001735Z
URL:https://business.marshallmn.org/events/details/live-music-featuring-the-singing-q-s-22289
END:VEVENT

END:VCALENDAR
