BEGIN:VCALENDAR
VERSION:2.0
PRODID:-//ChamberMaster//Event Calendar 2.0//EN
METHOD:PUBLISH
X-PUBLISHED-TTL:P3D
REFRESH-INTERVAL:P3D
CALSCALE:GREGORIAN
BEGIN:VEVENT
DTSTART:20251025T200000Z
DTEND:20251025T230000Z
X-MICROSOFT-CDO-ALLDAYEVENT:FALSE
SUMMARY:Live Music featuring Hopeful Hits
DESCRIPTION:Painted Prairie is excited to welcome Hope Welu\, Hopeful Hits\, to the Vineyard on October 25th from 3-6 p.m. Hope plays a good mix of classic country\, pop\, and a few of her originals on her acoustic guitar.\n\nThis event is free. Come on out and enjoy a beautiful fall day at the winery!
X-ALT-DESC;FMTTYPE=text/html:<div>Painted Prairie is excited to welcome Hope Welu\, Hopeful Hits\, to the Vineyard on October 25th from 3-6 p.m. Hope plays a good mix of classic country\, pop\, and a few of her originals on her acoustic guitar.</div>\n\n<div>This event is free. Come on out and enjoy a beautiful fall day at the winery!</div>\n
LOCATION:Painted Prairie Vineyard 1575 250th Ave. Currie\, MN 56123
UID:e.499.22487
SEQUENCE:3
DTSTAMP:20260424T001623Z
URL:https://business.marshallmn.org/events/details/live-music-featuring-hopeful-hits-22487
END:VEVENT

END:VCALENDAR
