BEGIN:VCALENDAR
VERSION:2.0
PRODID:-//ChamberMaster//Event Calendar 2.0//EN
METHOD:PUBLISH
X-PUBLISHED-TTL:P3D
REFRESH-INTERVAL:P3D
CALSCALE:GREGORIAN
BEGIN:VEVENT
DTSTART:20240216T223000Z
DTEND:20240217T010000Z
X-MICROSOFT-CDO-ALLDAYEVENT:FALSE
SUMMARY:Lenten Fish Fry
DESCRIPTION:Lenten Fish Fry - Serving all you can eat Fish\, baked potato or french fries\; cole slaw and dinner roll. Juice\, water and Coffee available.
X-ALT-DESC;FMTTYPE=text/html:Lenten Fish Fry - Serving all you can eat Fish\, baked potato or french fries\; cole slaw and dinner roll. Juice\, water and Coffee available.
LOCATION:Carlin Hall at Holy Redeemer Church
UID:e.499.20279
SEQUENCE:3
DTSTAMP:20260424T174948Z
URL:https://business.marshallmn.org/events/details/lenten-fish-fry-20279
END:VEVENT

END:VCALENDAR
