BEGIN:VCALENDAR
VERSION:2.0
PRODID:-//ChamberMaster//Event Calendar 2.0//EN
METHOD:PUBLISH
X-PUBLISHED-TTL:P3D
REFRESH-INTERVAL:P3D
CALSCALE:GREGORIAN
BEGIN:VEVENT
DTSTART:20220727T170000Z
DTEND:20220727T220000Z
X-MICROSOFT-CDO-ALLDAYEVENT:FALSE
SUMMARY:Knights of Columbus Summer Golf Tournament
DESCRIPTION:Join the Knights of Columbus Council 1621 for our Summer Golf Tournament!    Entry fee includes:  Box lunch\, golf cart for 2 and 18 holes of golf\n\n12:00:  Box lunch served\n\n1:00 Shotgun start
X-ALT-DESC;FMTTYPE=text/html:Join the Knights of Columbus Council 1621 for our Summer Golf Tournament!&nbsp\;&nbsp\;&nbsp\; Entry fee includes:&nbsp\; Box lunch\, golf cart for 2 and 18 holes of golf<br />\n12:00:&nbsp\; Box lunch served<br />\n1:00 Shotgun start<br />\n&nbsp\;
LOCATION:Marshall Golf Course
UID:e.499.18112
SEQUENCE:3
DTSTAMP:20260425T153313Z
URL:https://business.marshallmn.org/events/details/knights-of-columbus-summer-golf-tournament-18112
END:VEVENT

END:VCALENDAR
