BEGIN:VCALENDAR
VERSION:2.0
PRODID:-//ChamberMaster//Event Calendar 2.0//EN
METHOD:PUBLISH
X-PUBLISHED-TTL:P3D
REFRESH-INTERVAL:P3D
CALSCALE:GREGORIAN
BEGIN:VEVENT
DTSTART:20250314T213000Z
DTEND:20250315T000000Z
X-MICROSOFT-CDO-ALLDAYEVENT:FALSE
SUMMARY:Knights of Columbus Lenten Fish Fry
DESCRIPTION:KC Lenten Fish Fry Supper \n\nMarch 14\, 2025\, from 4:30 pm - 7 pm\n\nat Holy Redeemer Catholic Church\, Carlin Hall\, Marshall\, MN
X-ALT-DESC;FMTTYPE=text/html:KC Lenten Fish Fry Supper&nbsp\;<br />\nMarch 14\, 2025\, from 4:30 pm - 7 pm<br />\nat Holy Redeemer Catholic Church\, Carlin Hall\, Marshall\, MN
LOCATION:Carlin Hall at Holy Redeemer Catholic Church\, Marshall\, MN
UID:e.499.21952
SEQUENCE:3
DTSTAMP:20260421T082542Z
URL:https://business.marshallmn.org/events/details/knights-of-columbus-lenten-fish-fry-21952
END:VEVENT

END:VCALENDAR
