BEGIN:VCALENDAR
VERSION:2.0
PRODID:-//ChamberMaster//Event Calendar 2.0//EN
METHOD:PUBLISH
X-PUBLISHED-TTL:P3D
REFRESH-INTERVAL:P3D
CALSCALE:GREGORIAN
BEGIN:VEVENT
DTSTART:20260313T213000Z
DTEND:20260314T000000Z
X-MICROSOFT-CDO-ALLDAYEVENT:FALSE
SUMMARY:Knight of Columbus Lenten Fish Fry
DESCRIPTION:Knights of Columbus Council 1621 is hosting an  ALL YOU CAN EAT LENTEN FISH FRY \n\nAlaskan Pollock with Baked Potato or French Fries\n\nSpecial side dish\n\nGrilled Cheese sandwiches available too!\n\nCoffee\, Juice or Water\n\nWe keep serving until you're full or we run out.
X-ALT-DESC;FMTTYPE=text/html:Knights of Columbus Council 1621 is hosting an&nbsp\;&nbsp\;ALL YOU CAN EAT LENTEN FISH FRY&nbsp\;<br>\nAlaskan Pollock with Baked Potato or French Fries<br>\nSpecial side dish<br>\nGrilled Cheese sandwiches available too!<br>\nCoffee\, Juice or Water<br>\nWe keep serving until you're full or we run out.
LOCATION:Holy Redeemer Catholic Church - Carlin Hall Marshall\, MN
UID:e.499.13730
SEQUENCE:3
DTSTAMP:20260424T010753Z
URL:https://business.marshallmn.org/events/details/knight-of-columbus-lenten-fish-fry-13730
END:VEVENT

END:VCALENDAR
