BEGIN:VCALENDAR
VERSION:2.0
PRODID:-//ChamberMaster//Event Calendar 2.0//EN
METHOD:PUBLISH
X-PUBLISHED-TTL:P3D
REFRESH-INTERVAL:P3D
CALSCALE:GREGORIAN
BEGIN:VEVENT
DTSTART:20260515T213000Z
DTEND:20260516T000000Z
X-MICROSOFT-CDO-ALLDAYEVENT:FALSE
SUMMARY:KC Steak & Burger Cookout Benefit
DESCRIPTION:The Knights of Columbus annual steak/burger grill out will be on Friday\, May 15th\, from 4:30-7:00. The steak meal is served with cole slaw\, a baked potato or fries\, a finger roll\, and a drink. The burger meal comes with a baked potato or fries and a drink. \n\n\n\nThe prices are:\n\n10 oz ribeye steak meal $22\n\n1/3 lb cheeseburger meal $12\n\n1/3 hamburger meal $11\n\n\n\nChef Dale White will once again be out there grilling the steaks! \n\n\n\nThis event is at the Holy Redeemer Fair Stand\, and everyone is welcome. The proceeds from this fundraiser are going to the Calvary Catholic Cemetery to help with the costs of the tree removal and beautifying the Cemetery.
X-ALT-DESC;FMTTYPE=text/html:<div class="xdj266r x14z9mp xat24cr x1lziwak x1vvkbs"><span class="x193iq5w xeuugli x13faqbe x1vvkbs x1xmvt09 x1lliihq x1s928wv xhkezso x1gmr53x x1cpjm7i x1fgarty x1943h6x xudqn12 x3x7a5m x6prxxf xvq8zen xo1l8bm xzsf02u" dir="auto">The Knights of Columbus annual steak/burger grill out will be on Friday\, May 15th\, from 4:30-7:00. The steak meal is served with cole slaw\, a baked potato or fries\, a finger roll\, and a drink. The burger meal comes with a baked potato or fries and a drink. </span></div>\n\n<div class="x14z9mp xat24cr x1lziwak x1vvkbs xtlvy1s"><br />\n<span class="x193iq5w xeuugli x13faqbe x1vvkbs x1xmvt09 x1lliihq x1s928wv xhkezso x1gmr53x x1cpjm7i x1fgarty x1943h6x xudqn12 x3x7a5m x6prxxf xvq8zen xo1l8bm xzsf02u" dir="auto">The prices are:<br class="html-br" />\n10 oz ribeye steak meal $22<br class="html-br" />\n1/3 lb cheeseburger meal $12<br class="html-br" />\n1/3 hamburger meal $11</span></div>\n\n<div class="x14z9mp xat24cr x1lziwak x1vvkbs xtlvy1s"><br />\n<span class="x193iq5w xeuugli x13faqbe x1vvkbs x1xmvt09 x1lliihq x1s928wv xhkezso x1gmr53x x1cpjm7i x1fgarty x1943h6x xudqn12 x3x7a5m x6prxxf xvq8zen xo1l8bm xzsf02u" dir="auto">Chef Dale White will once again be out there grilling the steaks! </span></div>\n\n<div class="x14z9mp xat24cr x1lziwak x1vvkbs xtlvy1s"><br />\n<span class="x193iq5w xeuugli x13faqbe x1vvkbs x1xmvt09 x1lliihq x1s928wv xhkezso x1gmr53x x1cpjm7i x1fgarty x1943h6x xudqn12 x3x7a5m x6prxxf xvq8zen xo1l8bm xzsf02u" dir="auto">This event is at the Holy Redeemer Fair Stand\, and everyone is welcome. The proceeds from this fundraiser are going to the Calvary Catholic Cemetery to help with the costs of the tree removal and beautifying the Cemetery.</span></div>\n
LOCATION:Holy Redeemer Food Stand at the Lyon County Fairgrounds
UID:e.499.22169
SEQUENCE:3
DTSTAMP:20260426T002737Z
URL:https://business.marshallmn.org/events/details/kc-steak-burger-cookout-benefit-22169
END:VEVENT

END:VCALENDAR
