BEGIN:VCALENDAR
VERSION:2.0
PRODID:-//ChamberMaster//Event Calendar 2.0//EN
METHOD:PUBLISH
X-PUBLISHED-TTL:P3D
REFRESH-INTERVAL:P3D
CALSCALE:GREGORIAN
BEGIN:VEVENT
DTSTART:20180223T223000Z
DTEND:20180224T010000Z
X-MICROSOFT-CDO-ALLDAYEVENT:FALSE
SUMMARY:KC Lenten Fish Fry
DESCRIPTION:Knights of Columbus Fish Fry\n\nAll you can eat fish\n\nBaked potato\; french fries\; coleslaw\n\nJuice and Coffee\n\nAdults - $10\n\nKids 7 to 12  $4.00\n\nKids 6 and under - Free
X-ALT-DESC;FMTTYPE=text/html:Knights of Columbus Fish Fry<br />\nAll you can eat fish<br />\nBaked potato\; french fries\; coleslaw<br />\nJuice and Coffee<br />\n<span style="background-color:rgb(255\, 255\, 255)\; color:rgb(51\, 51\, 51)\; font-family:sans-serif\,arial\,verdana\,trebuchet ms\; font-size:13px">Adults - $10</span><br />\n<span style="background-color:rgb(255\, 255\, 255)\; color:rgb(51\, 51\, 51)\; font-family:sans-serif\,arial\,verdana\,trebuchet ms\; font-size:13px">Kids 7 to 12&nbsp\; $4.00</span><br />\n<span style="background-color:rgb(255\, 255\, 255)\; color:rgb(51\, 51\, 51)\; font-family:sans-serif\,arial\,verdana\,trebuchet ms\; font-size:13px">Kids 6 and under - Free</span>
LOCATION:Carlin Hall\; Holy Redeemer Catholic Church
UID:e.499.5496
SEQUENCE:3
DTSTAMP:20260422T065427Z
URL:https://business.marshallmn.org/events/details/kc-fish-fry-5496
END:VEVENT

END:VCALENDAR
