BEGIN:VCALENDAR
VERSION:2.0
PRODID:-//ChamberMaster//Event Calendar 2.0//EN
METHOD:PUBLISH
X-PUBLISHED-TTL:P3D
REFRESH-INTERVAL:P3D
CALSCALE:GREGORIAN
BEGIN:VEVENT
DTSTART:20241017T140000Z
DTEND:20241017T220000Z
X-MICROSOFT-CDO-ALLDAYEVENT:FALSE
SUMMARY:International Credit Union Day!
DESCRIPTION:Join Us for a Fun-Filled Open House!\n\nIn celebration of International Credit Union Day\, Leading Edge Credit Union invites you to an all-ages open house on Thursday\, October 17th\, from 9 AM to 5 PM at our Marshall branch.\n\nPick up a coloring sheet for our exciting coloring contest and make sure to return it by October 16th. Enjoy delicious coffee\, refreshing lemonades\, and tasty baked treats from local businesses. Don't miss the chance to spin for prizes!\n\nMark your calendars for this can't-miss event. Everyone is welcome!\n\nLeading Edge Credit Union is Federally Insured by NCUA.
X-ALT-DESC;FMTTYPE=text/html:<p><span style="font-size:var(--cib-type-subtitle2-stronger-font-size)">Join Us for a Fun-Filled Open House!</span></p>\n\n<p>In celebration of International Credit Union Day\, Leading Edge Credit Union invites you to an all-ages open house on Thursday\, October 17th\, from 9 AM to 5 PM at our Marshall branch.</p>\n\n<p>Pick up a coloring sheet for our exciting coloring contest and make sure to return it by October 16th. Enjoy delicious coffee\, refreshing lemonades\, and tasty baked treats from local businesses. Don&rsquo\;t miss the chance to spin for prizes!</p>\n\n<p>Mark your calendars for this can&rsquo\;t-miss event. Everyone is welcome!</p>\n\n<p><em>Leading Edge Credit Union is Federally Insured by NCUA.</em></p>\n
LOCATION:Marshall\, MN
UID:e.499.21782
SEQUENCE:3
DTSTAMP:20260423T085910Z
URL:https://business.marshallmn.org/events/details/international-credit-union-day-21782
END:VEVENT

END:VCALENDAR
