BEGIN:VCALENDAR
VERSION:2.0
PRODID:-//ChamberMaster//Event Calendar 2.0//EN
METHOD:PUBLISH
X-PUBLISHED-TTL:P3D
REFRESH-INTERVAL:P3D
CALSCALE:GREGORIAN
BEGIN:VEVENT
DTSTART:20260729T130000Z
DTEND:20260729T210000Z
X-MICROSOFT-CDO-ALLDAYEVENT:FALSE
SUMMARY:Intentional Leader Summit
DESCRIPTION:Leading the Standard Where Intentional Leaders Shape the Way We Work The Intentional Leader Summit is a one-day experience for professionals who believe that how we show up at work matters. This year's theme\, Leading the Standard\, focuses on personal ownership. Culture is not built by titles or policies\, but by everyday conversations\, decisions\, and behaviors. This is not a traditional leadership conference. It is a high-energy\, highly practical day centered on the human side of work. Communication. Self-awareness. Accountability. Trust. Connection. Expect real stories\, relatable examples\, and tools you can apply immediately. Whether you lead a team or want to elevate how you show up at work\, you will leave with clearer perspective\, practical tools\, and renewed energy\, ready to lead the standard wherever you work.
X-ALT-DESC;FMTTYPE=text/html:Leading the Standard Where Intentional Leaders Shape the Way We Work The Intentional Leader Summit is a one-day experience for professionals who believe that how we show up at work matters. This year&rsquo\;s theme\, Leading the Standard\, focuses on personal ownership. Culture is not built by titles or policies\, but by everyday conversations\, decisions\, and behaviors. This is not a traditional leadership conference. It is a high-energy\, highly practical day centered on the human side of work. Communication. Self-awareness. Accountability. Trust. Connection. Expect real stories\, relatable examples\, and tools you can apply immediately. Whether you lead a team or want to elevate how you show up at work\, you will leave with clearer perspective\, practical tools\, and renewed energy\, ready to lead the standard wherever you work.
LOCATION:601 E College Dr\, Marshall\, MN 56258\, USA
UID:e.499.22885
SEQUENCE:3
DTSTAMP:20260424T031545Z
URL:https://business.marshallmn.org/events/details/intentional-leader-summit-07-29-2026-22885
END:VEVENT

END:VCALENDAR
