BEGIN:VCALENDAR
VERSION:2.0
PRODID:-//ChamberMaster//Event Calendar 2.0//EN
METHOD:PUBLISH
X-PUBLISHED-TTL:P3D
REFRESH-INTERVAL:P3D
CALSCALE:GREGORIAN
BEGIN:VEVENT
DTSTART:20220909T230000Z
DTEND:20220911T045500Z
X-MICROSOFT-CDO-ALLDAYEVENT:FALSE
SUMMARY:Hopfest 2022
DESCRIPTION:Mark your calendars for Hopfest 2022! Southwest Minnesota's biggest beer festival with lots of beer\, food\, live music and fun! This year the party kicks off 6 p.m. Friday night and continues Saturday morning through night. A bean bag tournament\, live music on festival grounds\, and many other events all happen right out front of the brewery! Follow this page for more information!
X-ALT-DESC;FMTTYPE=text/html:<span style="color: rgb(5\, 5\, 5)\; font-family: &quot\;Segoe UI Historic&quot\;\, &quot\;Segoe UI&quot\;\, Helvetica\, Arial\, sans-serif\; font-size: 15px\;">Mark your calendars for Hopfest 2022! Southwest Minnesota&#39\;s biggest beer festival with lots of beer\, food\, live music and fun! This year the party kicks off 6 p.m. Friday night and continues Saturday morning through night. A bean bag tournament\, live music on festival grounds\, and many other events all happen right out front of the brewery! Follow this page for more information!</span>
LOCATION:Brau Brothers Brewing Company 1010 E. Southview Drive Marshall\, MN 56258
UID:e.499.18116
SEQUENCE:3
DTSTAMP:20260425T132344Z
URL:https://business.marshallmn.org/events/details/hopfest-2022-18116
END:VEVENT

END:VCALENDAR
