BEGIN:VCALENDAR
VERSION:2.0
PRODID:-//ChamberMaster//Event Calendar 2.0//EN
METHOD:PUBLISH
X-PUBLISHED-TTL:P3D
REFRESH-INTERVAL:P3D
CALSCALE:GREGORIAN
BEGIN:VEVENT
DTSTART:20171007T133000Z
DTEND:20171007T223000Z
X-MICROSOFT-CDO-ALLDAYEVENT:FALSE
SUMMARY:Homebuyer Education Workshop
DESCRIPTION:One day workshop to inform potential new homeowners about the process of purchasing a home.
X-ALT-DESC;FMTTYPE=text/html:One day workshop to inform potential new homeowners about the process of purchasing a home.
LOCATION:Marshall Area Chamber of Commerce\, 118 West College Drive in Marshall\, MN
UID:e.499.5373
SEQUENCE:3
DTSTAMP:20260422T082604Z
URL:https://business.marshallmn.org/events/details/homebuyer-education-workshop-5373
END:VEVENT

END:VCALENDAR
