BEGIN:VCALENDAR
VERSION:2.0
PRODID:-//ChamberMaster//Event Calendar 2.0//EN
METHOD:PUBLISH
X-PUBLISHED-TTL:P3D
REFRESH-INTERVAL:P3D
CALSCALE:GREGORIAN
BEGIN:VEVENT
DTSTART:20231209T180000Z
DTEND:20231209T210000Z
X-MICROSOFT-CDO-ALLDAYEVENT:FALSE
SUMMARY:Holiday Fun Day at the Museum
DESCRIPTION:Holiday Fun Day at the Museum is Saturday\, December 9 from 12:00 PM to 3:00 PM at the Lyon County Museum\, 301 W Lyon Street\, Marshall. Join us for holiday treats and refreshments\, lefse\, live music\, specials in the museum's gift shop\, crafts\, and more. Special guests\, Santa and Mrs. Claus will be at the museum from 1:00   2:00 pm. For more information\, contact the Lyon County Museum at 507-537-6580 or director@lyoncomuseum.org
X-ALT-DESC;FMTTYPE=text/html:Holiday Fun Day at the Museum is Saturday\, December 9 from 12:00 PM to 3:00 PM at the Lyon County Museum\, 301 W Lyon Street\, Marshall. Join us for holiday treats and refreshments\, lefse\, live music\, specials in the museum&rsquo\;s gift shop\, crafts\, and more. Special guests\, Santa and Mrs. Claus will be at the museum from 1:00 &ndash\; 2:00 pm. For more information\, contact the Lyon County Museum at 507-537-6580 or director@lyoncomuseum.org
LOCATION:Lyon County Museum 301 W Lyon St Marshall
UID:e.499.20215
SEQUENCE:3
DTSTAMP:20260424T195643Z
URL:https://business.marshallmn.org/events/details/holiday-fun-day-at-the-museum-20215
END:VEVENT

END:VCALENDAR
