BEGIN:VCALENDAR
VERSION:2.0
PRODID:-//ChamberMaster//Event Calendar 2.0//EN
METHOD:PUBLISH
X-PUBLISHED-TTL:P3D
REFRESH-INTERVAL:P3D
CALSCALE:GREGORIAN
BEGIN:VEVENT
DTSTART:20220820T140000Z
DTEND:20220820T200000Z
X-MICROSOFT-CDO-ALLDAYEVENT:FALSE
SUMMARY:Habitat for Humanity: Pickers Paradise Flea Market
DESCRIPTION:Join us for vintage\, antiques\, repurposed\, art & much more all at the Red Baron Arena & Expo on Saturday August 20th! From 9am-3pm you can visit flea market vendors at Pickers Paradise. There will be a silent auction to benefit our local Habitat for Humanity.
X-ALT-DESC;FMTTYPE=text/html:Join us for vintage\, antiques\, repurposed\, art &amp\; much more all at the Red Baron Arena &amp\; Expo on Saturday August 20th! From 9am-3pm you can visit flea market vendors at Pickers Paradise. There will be a silent auction to benefit our local Habitat for Humanity.
LOCATION:Red Baron Arena & Expo 1651 Victory Drive Marshall\, MN 56258
UID:e.499.18115
SEQUENCE:3
DTSTAMP:20260425T132432Z
URL:https://business.marshallmn.org/events/details/habitat-for-humanity-pickers-paradise-flea-market-18115
END:VEVENT

END:VCALENDAR
