BEGIN:VCALENDAR
VERSION:2.0
PRODID:-//ChamberMaster//Event Calendar 2.0//EN
METHOD:PUBLISH
X-PUBLISHED-TTL:P3D
REFRESH-INTERVAL:P3D
CALSCALE:GREGORIAN
BEGIN:VEVENT
DTSTART:20260328T210000Z
DTEND:20260329T010000Z
X-MICROSOFT-CDO-ALLDAYEVENT:FALSE
SUMMARY:Game Night
DESCRIPTION:Whether you are wanting a date night or an evening with friends\, Painted Prairie is the perfect destination on the 28th. Enjoy an evening out\, a fresh supply of different board and card games for some fun. Want to bring your own? Perfect! The full drink and food menu will be available. No reservations required.
X-ALT-DESC;FMTTYPE=text/html:<div>&nbsp\;</div>\n\n<div><span style="background-color:rgb(255\, 255\, 255)\; font-family:aptos\,aptos_embeddedfont\,aptos_msfontservice\,calibri\,helvetica\,sans-serif\; font-size:16px">Whether you are wanting a date night or an evening with friends\, Painted Prairie is the perfect destination on the 28th. Enjoy an evening out\, a fresh supply of different board and card games for some fun. Want to bring your own? Perfect! The full drink and food menu will be available. No reservations required.</span></div>\n
LOCATION:Painted Prairie Vineyard 1575 250th Ave. Currie\, MN 56123
UID:e.499.22884
SEQUENCE:3
DTSTAMP:20260424T020334Z
URL:https://business.marshallmn.org/events/details/game-night-22884
END:VEVENT

END:VCALENDAR
