BEGIN:VCALENDAR
VERSION:2.0
PRODID:-//ChamberMaster//Event Calendar 2.0//EN
METHOD:PUBLISH
X-PUBLISHED-TTL:P3D
REFRESH-INTERVAL:P3D
CALSCALE:GREGORIAN
BEGIN:VEVENT
DTSTART:20231123T170000Z
DTEND:20231123T190000Z
X-MICROSOFT-CDO-ALLDAYEVENT:FALSE
SUMMARY:Free Thanksgiving Community Meal
DESCRIPTION:Join us as we share a FREE Thanksgiving Meal on Thanksgiving Day! There is dine in seating available from 11am to 1pm. Delivery is also available for those who are homebound. Call 507-706-1471 before 5:00 pm on Tuesday\, Nov 21 to have a meal delivered to you.
X-ALT-DESC;FMTTYPE=text/html:Join us as we share a FREE Thanksgiving Meal on Thanksgiving Day! There is dine in seating available from 11am to 1pm. Delivery is also available for those who are homebound. Call 507-706-1471 before 5:00 pm on Tuesday\, Nov 21 to have a meal delivered to you.
LOCATION:Grace Life Church 601 E. College Dr. Marshall\, MN 56258
UID:e.499.20204
SEQUENCE:3
DTSTAMP:20260424T205308Z
URL:https://business.marshallmn.org/events/details/free-thanksgiving-community-meal-20204
END:VEVENT

END:VCALENDAR
