BEGIN:VCALENDAR
VERSION:2.0
PRODID:-//ChamberMaster//Event Calendar 2.0//EN
METHOD:PUBLISH
X-PUBLISHED-TTL:P3D
REFRESH-INTERVAL:P3D
CALSCALE:GREGORIAN
BEGIN:VEVENT
DTSTART:20250209T003000Z
DTEND:20250209T030000Z
X-MICROSOFT-CDO-ALLDAYEVENT:FALSE
SUMMARY:FREE Open Skate sponsored by Andrew Suby State Farm
DESCRIPTION:FREE Open Skate sponsored by Andrew Suby State Farm\, in partnership with Marshall Community Services! All ages welcome at the Red Baron Arena in Marshall from 6:30 PM - 9PM on Saturday\, February 8th! Admission and skates are FREE for everyone\, and we'll have some State Farm goodies and giveaways as well. Skates are limited\; if you have your own\, please bring them. We look forward to seeing you there!
X-ALT-DESC;FMTTYPE=text/html:<span style="color:rgb(8\, 8\, 9)\; font-family:segoe ui historic\,segoe ui\,helvetica\,arial\,sans-serif\; font-size:15px">FREE Open Skate sponsored by Andrew Suby State Farm\, in partnership with Marshall Community Services! All ages welcome at the Red Baron Arena in Marshall from 6:30 PM - 9PM on Saturday\, February 8th! Admission and skates are FREE for everyone\, and we&#39\;ll have some State Farm goodies and giveaways as well. Skates are limited\; if you have your own\, please bring them. We look forward to seeing you there!</span>
LOCATION:Red Baron Arena - Marshall\, MN
UID:e.499.21956
SEQUENCE:3
DTSTAMP:20260423T134043Z
URL:https://business.marshallmn.org/events/details/free-open-skate-sponsored-by-andrew-suby-state-farm-02-08-2025-21956
END:VEVENT

END:VCALENDAR
