BEGIN:VCALENDAR
VERSION:2.0
PRODID:-//ChamberMaster//Event Calendar 2.0//EN
METHOD:PUBLISH
X-PUBLISHED-TTL:P3D
REFRESH-INTERVAL:P3D
CALSCALE:GREGORIAN
BEGIN:VEVENT
DTSTART:20251029T234500Z
DTEND:20251030T010000Z
X-MICROSOFT-CDO-ALLDAYEVENT:FALSE
SUMMARY:First Lutheran's Annual Fall Festival
DESCRIPTION:Bring the whole family to First Lutheran's first Fall Festival! It will be a night filled with Trunk-or-Treat\, activities\, games\, campfires\, popcorn\, apple cider\, and MORE! Mark it on your calendars\, you won't want to miss it!
X-ALT-DESC;FMTTYPE=text/html:<span style="background-color:rgb(255\, 255\, 255)\; color:rgb(68\, 68\, 68)\; font-family:arial\,helvetica\,sans-serif\; font-size:14px">Bring the whole family to First Lutheran&#39\;s first Fall Festival! It will be a night filled with Trunk-or-Treat\, activities\, games\, campfires\, popcorn\, apple cider\, and MORE! Mark it on your calendars\, you won&#39\;t want to miss it!</span>
LOCATION:First Lutheran Church 100 Church Street Marshall MN 56258
UID:e.499.22484
SEQUENCE:3
DTSTAMP:20260423T231522Z
URL:https://business.marshallmn.org/events/details/first-lutheran-s-annual-fall-festival-22484
END:VEVENT

END:VCALENDAR
