BEGIN:VCALENDAR
VERSION:2.0
PRODID:-//ChamberMaster//Event Calendar 2.0//EN
METHOD:PUBLISH
X-PUBLISHED-TTL:P3D
REFRESH-INTERVAL:P3D
CALSCALE:GREGORIAN
BEGIN:VEVENT
DTSTART:20250907T143000Z
DTEND:20250907T163000Z
X-MICROSOFT-CDO-ALLDAYEVENT:FALSE
SUMMARY:First Lutheran Rally Day Sunday
DESCRIPTION:FALL and RALLY DAY KICKS OFF AT FIRST LUTHERAN ON SUNDAY SEPT 7TH! Mark it down now!\n\nJoin us as we gather together after a busy summer! Gather outside in the parking lot! Bring a lawn chair\, as we worship together at 9:30am\, and share your summer stories with each other! We'll kick off the new year! Hear about summer camp stories from Shetek and Klein! Celebrate with the 7th graders as they start confirmation and their milestone......and not only bless any backpacks but also bikes!!\n\nAfter worship we will be serving breakfast sandwiches and fruit and having coffee fellowship in the parking lot. Free will offering will be taken.\n\nGames\, inflatables\, face painting\, and other activities will also be available for the kids .and kids at heart.\n\nJoin us if you're new! Invite someone new or invite someone you haven't seen in a while! ALL ARE WELCOME! Together\, we are believers seeking to invite all into the caring\, sharing and growing ways of faith!
X-ALT-DESC;FMTTYPE=text/html:<div>FALL and RALLY DAY KICKS OFF AT FIRST LUTHERAN ON SUNDAY SEPT 7TH! Mark it down now!</div>\n\n<div>Join us as we gather together after a busy summer! Gather outside in the parking lot! Bring a lawn chair\, as we worship together at 9:30am\, and share your summer stories with each other! We&rsquo\;ll kick off the new year! Hear about summer camp stories from Shetek and Klein! Celebrate with the 7th graders as they start confirmation and their milestone......and not only bless any backpacks but also bikes!!</div>\n\n<div>After worship we will be serving breakfast sandwiches and fruit and having coffee fellowship in the parking lot. Free will offering will be taken.</div>\n\n<div>Games\, inflatables\, face painting\, and other activities will also be available for the kids&hellip\;.and kids at heart.</div>\n\n<div>Join us if you&#39\;re new! Invite someone new or invite someone you haven&rsquo\;t seen in a while! ALL ARE WELCOME! Together\, we are believers seeking to invite all into the caring\, sharing and growing ways of faith!</div>\n
LOCATION:First Lutheran Church 100 Church Street (Corner of Church and A streets) Marshall MN 56258
UID:e.499.22351
SEQUENCE:3
DTSTAMP:20260423T231601Z
URL:https://business.marshallmn.org/events/details/first-lutheran-rally-day-sunday-22351
END:VEVENT

END:VCALENDAR
