BEGIN:VCALENDAR
VERSION:2.0
PRODID:-//ChamberMaster//Event Calendar 2.0//EN
METHOD:PUBLISH
X-PUBLISHED-TTL:P3D
REFRESH-INTERVAL:P3D
CALSCALE:GREGORIAN
BEGIN:VEVENT
DTSTART:20220611T230000Z
DTEND:20220612T000000Z
X-MICROSOFT-CDO-ALLDAYEVENT:FALSE
SUMMARY:Family Campfire Story Hour
DESCRIPTION:Join Marshall Lyon County Library staff around the campfire for stories and activities. Also be on the lookout for the library's new book bike! This event is free\; there is no park entrance fee on Saturday\, June 11.
X-ALT-DESC;FMTTYPE=text/html:Join Marshall Lyon County Library staff around the campfire for stories and activities. Also be on the lookout for the library&rsquo\;s new book bike! This event is free\; there is no park entrance fee on Saturday\, June 11.
LOCATION:North Picnic Area Camden State Park
UID:e.499.17944
SEQUENCE:3
DTSTAMP:20260425T213300Z
URL:https://business.marshallmn.org/events/details/family-campfire-story-hour-17944
END:VEVENT

END:VCALENDAR
