BEGIN:VCALENDAR
VERSION:2.0
PRODID:-//ChamberMaster//Event Calendar 2.0//EN
METHOD:PUBLISH
X-PUBLISHED-TTL:P3D
REFRESH-INTERVAL:P3D
CALSCALE:GREGORIAN
BEGIN:VEVENT
DTSTART:20241208T013000Z
DTEND:20241208T030000Z
X-MICROSOFT-CDO-ALLDAYEVENT:FALSE
SUMMARY:Fairbanks Ice Dogs vs. Steel (Saturday)
DESCRIPTION:The Fairbanks Ice Dogs are returning to Marshall\, Minnesota for two thrilling nights of NAHL hockey on December 6th and 7th 2024! Get ready to cheer on your Sister City as they face off against Chippewa! Experience the electrifying atmosphere of the arena\, filled with passionate fans and heart-pounding action. Don't miss this incredible opportunity to witness top-tier hockey talent right in your own backyard! Beer & concessions available.\n\n \n\nTickets are $20\, 3 & under are free on lap. Get them today before it's too late!\n\n \n\nThis event is a collaboration with Marshall Sports\, The Red Baron Arena & Expo\, Marshall Amateur Hockey Association\, & Fairbanks Ice Dogs
X-ALT-DESC;FMTTYPE=text/html:<div class="xdj266r x11i5rnm xat24cr x1mh8g0r x1vvkbs" style="box-sizing: inherit\; border: 0px\; font-size: 17px\; margin: 0px\; outline: 0px\; padding: 0px\; vertical-align: baseline\; color: rgb(20\, 24\, 39)\; font-family: Montserrat\, sans-serif\;">The Fairbanks Ice Dogs are returning to Marshall\, Minnesota for two thrilling nights of NAHL hockey on December 6th and 7th 2024! Get ready to cheer on your Sister City as they face off against Chippewa! Experience the electrifying atmosphere of the arena\, filled with passionate fans and heart-pounding action. Don&rsquo\;t miss this incredible opportunity to witness top-tier hockey talent right in your own backyard! Beer &amp\; concessions available.</div>\n\n<div style="box-sizing: inherit\; border: 0px\; font-size: 17px\; margin: 0px\; outline: 0px\; padding: 0px\; vertical-align: baseline\; color: rgb(20\, 24\, 39)\; font-family: Montserrat\, sans-serif\;">&nbsp\;</div>\n\n<div class="x11i5rnm xat24cr x1mh8g0r x1vvkbs xtlvy1s" style="box-sizing: inherit\; border: 0px\; font-size: 17px\; margin: 0px\; outline: 0px\; padding: 0px\; vertical-align: baseline\; color: rgb(20\, 24\, 39)\; font-family: Montserrat\, sans-serif\;">Tickets are $20\, 3 &amp\; under are free on lap. Get them today before it&rsquo\;s too late!</div>\n\n<div style="box-sizing: inherit\; border: 0px\; font-size: 17px\; margin: 0px\; outline: 0px\; padding: 0px\; vertical-align: baseline\; color: rgb(20\, 24\, 39)\; font-family: Montserrat\, sans-serif\;">&nbsp\;</div>\n\n<div class="x11i5rnm xat24cr x1mh8g0r x1vvkbs xtlvy1s" style="box-sizing: inherit\; border: 0px\; font-size: 17px\; margin: 0px\; outline: 0px\; padding: 0px\; vertical-align: baseline\; color: rgb(20\, 24\, 39)\; font-family: Montserrat\, sans-serif\;">This event is a collaboration with Marshall Sports\, The Red Baron Arena &amp\; Expo\, Marshall Amateur Hockey Association\, &amp\; Fairbanks Ice Dogs</div>\n
LOCATION:Red Baron Arena & Expo | 1651 Victory Drive
UID:e.499.21795
SEQUENCE:3
DTSTAMP:20260423T124147Z
URL:https://business.marshallmn.org/events/details/fairbanks-ice-dogs-vs-steel-saturday-21795
END:VEVENT

END:VCALENDAR
