BEGIN:VCALENDAR
VERSION:2.0
PRODID:-//ChamberMaster//Event Calendar 2.0//EN
METHOD:PUBLISH
X-PUBLISHED-TTL:P3D
REFRESH-INTERVAL:P3D
CALSCALE:GREGORIAN
BEGIN:VEVENT
DTSTART:20180409T230000Z
DTEND:20180410T000000Z
X-MICROSOFT-CDO-ALLDAYEVENT:FALSE
SUMMARY:Exhibit Opening Reception and Program
DESCRIPTION:Exhibit opening reception and program for the traveling exhibit\, Boys in Blue: The Grand Army of the Republic\, A Civil War Veterans' Organization on Monday\, April 9 at the Lyon County Museum\, 301 W Lyon St.  Doors open at 6:00pm.  Dr. Lloyd Petersen will talk at 6:30pm on the history of the Grand Army of the Republic.  Free event and light refreshments will be served. \n\n\n\nThe traveling exhibit runs at the Lyon County Museum March 1 - June 1.  The exhibit was organized by Siouxland Heritage Museums\, Sioux Falls\, SD.
X-ALT-DESC;FMTTYPE=text/html:<span style="font-size:14pt"><span style="font-family:tahoma\,sans-serif"><span style="font-size:14px"><span style="font-family:tahoma">Exhibit opening reception and program for the traveling exhibit\, Boys in Blue: The Grand Army of the Republic\, A Civil War Veterans&rsquo\; Organization on Monday\, April 9 at the Lyon County Museum\, 301 W Lyon St.&nbsp\; Doors open at 6:00pm.&nbsp\; Dr. Lloyd Petersen will talk at 6:30pm on the history of the Grand Army of the Republic.&nbsp\; Free event and light refreshments will be served.&nbsp\;<br />\n<br />\nThe traveling exhibit runs at the Lyon County Museum March 1 - June 1.&nbsp\; The exhibit was organized by Siouxland Heritage Museums\, Sioux Falls\, SD.</span></span></span></span><br />\n&nbsp\;
LOCATION:Lyon County Museum 301 West Lyon Street Marshall\, MN 56258
UID:e.499.5499
SEQUENCE:3
DTSTAMP:20260424T021038Z
URL:https://business.marshallmn.org/events/details/exhibit-opening-reception-and-program-5499
END:VEVENT

END:VCALENDAR
