BEGIN:VCALENDAR
VERSION:2.0
PRODID:-//ChamberMaster//Event Calendar 2.0//EN
METHOD:PUBLISH
X-PUBLISHED-TTL:P3D
REFRESH-INTERVAL:P3D
CALSCALE:GREGORIAN
BEGIN:VEVENT
DTSTART:20241019T153000Z
DTEND:20241019T230000Z
X-MICROSOFT-CDO-ALLDAYEVENT:FALSE
SUMMARY:Escape Room at the Schoolhouse
DESCRIPTION:The Escape Room at the Schoolhouse is back! 2 days only on Saturday\, October 5 and Saturday\, October 19. The theme for this year's Escape Room at the Schoolhouse is Lost Classroom Pet. Your team will look for clues and solve puzzles to find the lost classroom pet. Maximum of 5 people per team are allowed to compete for each time slot. Cost is $25.00 per team. Registration is required by visiting the Lyon County Museum's website: www.lyoncomuseum.org and clicking on Escape Room. This escape room is held at the red schoolhouse located at the Lyon County Fairgrounds. Funds raised support the maintenance and upkeep of the schoolhouse. For more information\, contact the Lyon County Museum at 507-537-6580 or email director@lyoncomuseum.org
X-ALT-DESC;FMTTYPE=text/html:The Escape Room at the Schoolhouse is back! 2 days only on Saturday\, October 5 and Saturday\, October 19. The theme for this year&rsquo\;s Escape Room at the Schoolhouse is Lost Classroom Pet. Your team will look for clues and solve puzzles to find the lost classroom pet. Maximum of 5 people per team are allowed to compete for each time slot. Cost is $25.00 per team. Registration is required by visiting the Lyon County Museum&rsquo\;s website: www.lyoncomuseum.org and clicking on Escape Room. This escape room is held at the red schoolhouse located at the Lyon County Fairgrounds. Funds raised support the maintenance and upkeep of the schoolhouse. For more information\, contact the Lyon County Museum at 507-537-6580 or email director@lyoncomuseum.org
LOCATION:Red Schoolhouse at the Lyon County Fairgrounds
UID:e.499.21743
SEQUENCE:3
DTSTAMP:20260423T102558Z
URL:https://business.marshallmn.org/events/details/escape-room-at-the-schoolhouse-10-19-2024-21743
END:VEVENT

END:VCALENDAR
