BEGIN:VCALENDAR
VERSION:2.0
PRODID:-//ChamberMaster//Event Calendar 2.0//EN
METHOD:PUBLISH
X-PUBLISHED-TTL:P3D
REFRESH-INTERVAL:P3D
CALSCALE:GREGORIAN
BEGIN:VEVENT
DTSTART:20260516T151500Z
DTEND:20260516T163000Z
X-MICROSOFT-CDO-ALLDAYEVENT:FALSE
SUMMARY:Eating Rainbows (for Kids)
DESCRIPTION:Eating Rainbows: Growing\, Preparing\, and Eating Healthy Fruits and Veggies\n\nKids will learn how to grow fruits and vegetables\, then how to make them ready and fun to eat! For grades 1-5. Space limited to 20 attendees. Please preregister by visiting the Marshall Library's -children's department or calling the library at 507-537-7003.\n\nThis informational event is free and open to the public.\n\nThis event is presented through the Minnesota Extension Service Master Gardener volunteer program.
X-ALT-DESC;FMTTYPE=text/html:<p>Eating Rainbows: Growing\, Preparing\, and Eating Healthy Fruits and Veggies</p>\n\n<p>Kids will learn how to grow fruits and vegetables\, then how to make them ready and fun to eat! For grades 1-5. Space limited to 20 attendees. Please preregister by visiting the Marshall Library&rsquo\;s -children&rsquo\;s department or calling the library at 507-537-7003.</p>\n\n<p>This informational event is free and open to the public.</p>\n\n<p>This event is presented through the Minnesota Extension Service Master Gardener volunteer program.</p>\n
LOCATION:
UID:e.499.23008
SEQUENCE:3
DTSTAMP:20260424T005216Z
URL:https://business.marshallmn.org/events/details/eating-rainbows-for-kids-23008
END:VEVENT

END:VCALENDAR
