BEGIN:VCALENDAR
VERSION:2.0
PRODID:-//ChamberMaster//Event Calendar 2.0//EN
METHOD:PUBLISH
X-PUBLISHED-TTL:P3D
REFRESH-INTERVAL:P3D
CALSCALE:GREGORIAN
BEGIN:VEVENT
DTSTART;VALUE=DATE:20260306
DTEND;VALUE=DATE:20260307
TRANSP:TRANSPARENT
X-MICROSOFT-CDO-ALLDAYEVENT:TRUE
SUMMARY:Dress4ACause
DESCRIPTION:Dress For a Cause Party/Prom Dress Fundraiser benefiting Marshall Food4Kids
X-ALT-DESC;FMTTYPE=text/html:Dress For a Cause Party/Prom Dress Fundraiser benefiting Marshall Food4Kids&nbsp\;
LOCATION:Prom/Party Dress Pop Up Shop Carr Properties\, 1113 E. College Drive\, Marshall\, MN (between Palmer's Tattoo and Roll and Smoke)
UID:e.499.22799
SEQUENCE:3
DTSTAMP:20260424T010435Z
URL:https://business.marshallmn.org/events/details/dress4acause-03-06-2026-22799
END:VEVENT

END:VCALENDAR
