BEGIN:VCALENDAR
VERSION:2.0
PRODID:-//ChamberMaster//Event Calendar 2.0//EN
METHOD:PUBLISH
X-PUBLISHED-TTL:P3D
REFRESH-INTERVAL:P3D
CALSCALE:GREGORIAN
BEGIN:VEVENT
DTSTART:20260515T170000Z
DTEND:20260515T180000Z
X-MICROSOFT-CDO-ALLDAYEVENT:FALSE
SUMMARY:Composting Class
DESCRIPTION:Join the Lyon County Environmental Department for a free class about composting! Composting is a healthy way to reduce your family's landfill waste and encourage families to learn more about gardening and nature. The first 30 attendees can receive a free indoor and outdoor compost bin for use at their home.
X-ALT-DESC;FMTTYPE=text/html:<span style="background-color:rgb(255\, 255\, 255)\; color:rgb(20\, 24\, 39)\; font-family:helvetica neue\,helvetica\,-apple-system\,blinkmacsystemfont\,roboto\,arial\,sans-serif\; font-size:18px">Join the&nbsp\;</span><a href="https://www.lyonco.org/departments/environmental" style="box-sizing: border-box\; background-color: rgb(255\, 255\, 255)\; color: rgb(110\, 121\, 64)\; text-decoration: none\; border-bottom: 1px solid rgb(110\, 121\, 64)\; transition: color 0.2s\; font-family: &quot\;Helvetica Neue&quot\;\, Helvetica\, -apple-system\, BlinkMacSystemFont\, Roboto\, Arial\, sans-serif\; font-size: 18px\;">Lyon County Environmental Department</a><span style="background-color:rgb(255\, 255\, 255)\; color:rgb(20\, 24\, 39)\; font-family:helvetica neue\,helvetica\,-apple-system\,blinkmacsystemfont\,roboto\,arial\,sans-serif\; font-size:18px">&nbsp\;for a free class about composting! Composting is a healthy way to reduce your family&rsquo\;s landfill waste and encourage families to learn more about gardening and nature. The first 30 attendees can receive a free indoor and outdoor compost bin for use at their home.</span>
LOCATION:
UID:e.499.23007
SEQUENCE:3
DTSTAMP:20260423T120314Z
URL:https://business.marshallmn.org/events/details/composting-class-23007
END:VEVENT

END:VCALENDAR
