BEGIN:VCALENDAR
VERSION:2.0
PRODID:-//ChamberMaster//Event Calendar 2.0//EN
METHOD:PUBLISH
X-PUBLISHED-TTL:P3D
REFRESH-INTERVAL:P3D
CALSCALE:GREGORIAN
BEGIN:VEVENT
DTSTART:20251214T220000Z
DTEND:20251214T233000Z
X-MICROSOFT-CDO-ALLDAYEVENT:FALSE
SUMMARY:Community Christmas Sing at First Lutheran
DESCRIPTION:It's a Community Christmas Sing! Sunday Dec 14 at 4:00pm at First Lutheran. (100 Church Street\, Marshall) \n\n\n\n \n\n\n\nKick off the Christmas season! Join together to sing all the favorite Christmas songs. We'll sing Sacred songs--the carols AND secular songs--the jolly ones.\n\n\n\n \n\n\n\nThis is NOT a fundraiser\, this is just a FUN raiser! It's a time to get together and enjoy the beautiful and fun songs of the season.\n\n\n\n \n\n\n\nBring yourself! Bring your family\, kids\, and friends! Spread the word! Let's have fun!
X-ALT-DESC;FMTTYPE=text/html:<div>\n<div><span style="font-family:inherit">It&#39\;s a Community Christmas Sing! Sunday Dec 14 at 4:00pm at First Lutheran. (100 Church Street\, Marshall) </span></div>\n</div>\n\n<div>\n<div>&nbsp\;</div>\n</div>\n\n<div>\n<div><span style="font-family:inherit">Kick off the Christmas season! Join together to sing all the favorite Christmas songs. We&#39\;ll sing Sacred songs--the carols AND secular songs--the jolly ones.</span></div>\n</div>\n\n<div>\n<div>&nbsp\;</div>\n</div>\n\n<div>\n<div><span style="font-family:inherit">This is NOT a fundraiser\, this is just a FUN raiser! It&#39\;s a time to get together and enjoy the beautiful and fun songs of the season.</span></div>\n</div>\n\n<div>\n<div>&nbsp\;</div>\n</div>\n\n<div>\n<div><span style="font-family:inherit">Bring yourself! Bring your family\, kids\, and friends! Spread the word! Let&#39\;s have fun!</span></div>\n</div>\n
LOCATION:First Lutheran Church 100 Church Street\, Marshall MN on the corner of Church and A Street
UID:e.499.22598
SEQUENCE:3
DTSTAMP:20260424T020539Z
URL:https://business.marshallmn.org/events/details/community-christmas-sing-at-first-lutheran-22598
END:VEVENT

END:VCALENDAR
