BEGIN:VCALENDAR
VERSION:2.0
PRODID:-//ChamberMaster//Event Calendar 2.0//EN
METHOD:PUBLISH
X-PUBLISHED-TTL:P3D
REFRESH-INTERVAL:P3D
CALSCALE:GREGORIAN
BEGIN:VEVENT
DTSTART;VALUE=DATE:20251224
DTEND;VALUE=DATE:20251225
TRANSP:TRANSPARENT
X-MICROSOFT-CDO-ALLDAYEVENT:TRUE
SUMMARY:Christmas Eve Candlelight Worships at First Lutheran\, Marshall MN
DESCRIPTION:Join us at First Lutheran Church in Marshall (100 Church Street) for Christmas Eve Candlelight worship on Wednesday\, December 24th at 3pm 5pm or 7pm.  The 5pm worship will be live streamed on YouTube and later posted on Facebook.  The 7pm worship will include communion.  All are welcome. \n\n\n\nFor more information you can contact the church office at 507-532-2429
X-ALT-DESC;FMTTYPE=text/html:Join us at First Lutheran Church in Marshall (100 Church Street) for Christmas Eve Candlelight worship on Wednesday\, December 24th at 3pm 5pm or 7pm.&nbsp\; The 5pm worship will be live streamed on YouTube and later posted on Facebook.&nbsp\; The 7pm worship will include communion.&nbsp\; All are welcome.&nbsp\;<br />\n<br />\nFor more information you can contact the church office at 507-532-2429
LOCATION:100 Church Street
UID:e.499.22599
SEQUENCE:3
DTSTAMP:20260424T022124Z
URL:https://business.marshallmn.org/events/details/christmas-eve-candlelight-worships-at-first-lutheran-marshall-mn-12-24-2025-22599
END:VEVENT

END:VCALENDAR
