BEGIN:VCALENDAR
VERSION:2.0
PRODID:-//ChamberMaster//Event Calendar 2.0//EN
METHOD:PUBLISH
X-PUBLISHED-TTL:P3D
REFRESH-INTERVAL:P3D
CALSCALE:GREGORIAN
BEGIN:VEVENT
DTSTART:20250220T233000Z
DTEND:20250221T040000Z
X-MICROSOFT-CDO-ALLDAYEVENT:FALSE
SUMMARY:Charge Up the Night
DESCRIPTION:Holy Redeemer School's annual fundraiser called "Charge Up the Night" will be held on Thursday\, February 20\, 2025\, beginning at 5:30 PM.  "Charge Up the Night 2025" Ticket Reservation Form - Page 1 of 4
X-ALT-DESC;FMTTYPE=text/html:Holy Redeemer School&#39\;s annual fundraiser called &quot\;Charge Up the Night&quot\; will be held on Thursday\, February 20\, 2025\, beginning at 5:30 PM.&nbsp\;&nbsp\;<a href="https://web4u.forms-db.com/view.php?id=2362515">&quot\;Charge Up the Night 2025&quot\; Ticket Reservation Form - Page 1 of 4</a>
LOCATION:Held at 5 Family Ranch\, 2717 Co Rd 6\, Marshall\, MN
UID:e.499.21887
SEQUENCE:3
DTSTAMP:20260423T144521Z
URL:https://business.marshallmn.org/events/details/charge-up-the-night-21887
END:VEVENT

END:VCALENDAR
