BEGIN:VCALENDAR
VERSION:2.0
PRODID:-//ChamberMaster//Event Calendar 2.0//EN
METHOD:PUBLISH
X-PUBLISHED-TTL:P3D
REFRESH-INTERVAL:P3D
CALSCALE:GREGORIAN
BEGIN:VEVENT
DTSTART:20110220T180000Z
DTEND:20110220T223000Z
X-MICROSOFT-CDO-ALLDAYEVENT:FALSE
SUMMARY:Bridal Extravaganza 2011
DESCRIPTION:Bridal Extravaganza 2011\n\n Sunday\, February 20th\n\n Noon - 4:30 pm\n\n \n\npresented by Marshall Radio 507.532.2282
X-ALT-DESC;FMTTYPE=text/html:Bridal Extravaganza 2011\n<br> Sunday\, February 20th\n<br> Noon - 4:30 pm\n<br> \n<br>presented by Marshall Radio 507.532.2282\n<br> 
LOCATION:The Centers @ Southwest Minnesota State University
UID:e.499.43
SEQUENCE:3
DTSTAMP:20260421T163812Z
URL:https://business.marshallmn.org/events/details/bridal-extravaganza-2011-02-20-2011-43
END:VEVENT

END:VCALENDAR
