BEGIN:VCALENDAR
VERSION:2.0
PRODID:-//ChamberMaster//Event Calendar 2.0//EN
METHOD:PUBLISH
X-PUBLISHED-TTL:P3D
REFRESH-INTERVAL:P3D
CALSCALE:GREGORIAN
BEGIN:VEVENT
DTSTART:20181203T230000Z
DTEND:20181204T010000Z
X-MICROSOFT-CDO-ALLDAYEVENT:FALSE
SUMMARY:Bremer: Business After Hours
DESCRIPTION:Join us for the annual Holiday Bremer Bank Business After Hours/Customer Appreciation Event!
X-ALT-DESC;FMTTYPE=text/html:Join us for the annual Holiday Bremer Bank Business After Hours/Customer Appreciation Event!
LOCATION:Bremer Bank 208 East College Drive Marshall\, MN 56258
UID:e.499.7936
SEQUENCE:3
DTSTAMP:20260421T061348Z
URL:https://business.marshallmn.org/events/details/bremer-business-after-hours-7936
END:VEVENT

END:VCALENDAR
