BEGIN:VCALENDAR
VERSION:2.0
PRODID:-//ChamberMaster//Event Calendar 2.0//EN
METHOD:PUBLISH
X-PUBLISHED-TTL:P3D
REFRESH-INTERVAL:P3D
CALSCALE:GREGORIAN
BEGIN:VEVENT
DTSTART:20250725T220000Z
DTEND:20250726T020000Z
X-MICROSOFT-CDO-ALLDAYEVENT:FALSE
SUMMARY:Bottles and Bonfires
DESCRIPTION:Friday evenings are made for firepits and relaxation! Enjoy Painted Prairie's woodfire pizza menu\, time around the fire\, 10% off wine bottles during dining\, and complimentary s'mores.
X-ALT-DESC;FMTTYPE=text/html:<span style="background-color:rgb(255\, 255\, 255)\; color:rgb(8\, 8\, 9)\; font-family:segoe ui historic\,segoe ui\,helvetica\,arial\,sans-serif\; font-size:15px">Friday evenings are made for firepits and relaxation! Enjoy Painted Prairie&#39\;s woodfire pizza menu\, time around the fire\, 10% off wine bottles during dining\, and complimentary s&#39\;mores.</span>
LOCATION:Painted Prairie Vineyard 1575 250th Ave. Currie\, MN 56123
UID:e.499.22225
SEQUENCE:3
DTSTAMP:20260423T200504Z
URL:https://business.marshallmn.org/events/details/bottles-and-bonfires-07-25-2025-22225
END:VEVENT

END:VCALENDAR
