BEGIN:VCALENDAR
VERSION:2.0
PRODID:-//ChamberMaster//Event Calendar 2.0//EN
METHOD:PUBLISH
X-PUBLISHED-TTL:P3D
REFRESH-INTERVAL:P3D
CALSCALE:GREGORIAN
BEGIN:VEVENT
DTSTART;VALUE=DATE:20110119
DTEND;VALUE=DATE:20110123
TRANSP:TRANSPARENT
X-MICROSOFT-CDO-ALLDAYEVENT:TRUE
SUMMARY:Boat Show
DESCRIPTION:Action Sports \n\nBOAT SHOW
X-ALT-DESC;FMTTYPE=text/html:Action Sports \n<br>BOAT SHOW
LOCATION:Action Sports 301 South Hwy 23 Marshall\, MN
UID:e.499.44
SEQUENCE:3
DTSTAMP:20260425T194927Z
URL:https://business.marshallmn.org/events/details/boat-show-01-19-2011-44
END:VEVENT

END:VCALENDAR
