BEGIN:VCALENDAR
VERSION:2.0
PRODID:-//ChamberMaster//Event Calendar 2.0//EN
METHOD:PUBLISH
X-PUBLISHED-TTL:P3D
REFRESH-INTERVAL:P3D
CALSCALE:GREGORIAN
BEGIN:VEVENT
DTSTART:20251221T003000Z
DTEND:20251221T013000Z
X-MICROSOFT-CDO-ALLDAYEVENT:FALSE
SUMMARY:Blue Christmas Worship
DESCRIPTION:The holiday season can be difficult for many   a time when grief\, loss\, or loneliness feel especially heavy. First Lutheran and Christ United Presbyterian Churches are joining together to provide a Blue Christmas Worship that offers a quiet\, reflective space for prayer\, comfort\, and hope. Join us on Saturday December 20th at 6:30pm in First Lutheran's sanctuary as we gather to remember that the light of Christ shines even in our darkest days.  All are welcome. Come as you are.
X-ALT-DESC;FMTTYPE=text/html:<span style="font-size:14px"><span style="background-color:rgb(255\, 255\, 255)\; font-family:lato\,lato_embeddedfont\,lato_msfontservice\,sans-serif">The holiday season can be difficult for many &mdash\; a time when grief\, loss\, or loneliness feel especially heavy. </span><strong>First Lutheran</strong><span style="background-color:rgb(255\, 255\, 255)\; font-family:lato\,lato_embeddedfont\,lato_msfontservice\,sans-serif"> </span><strong>and</strong><span style="background-color:rgb(255\, 255\, 255)\; font-family:lato\,lato_embeddedfont\,lato_msfontservice\,sans-serif"> </span><strong>Christ United Presbyterian Churches</strong><span style="background-color:rgb(255\, 255\, 255)\; font-family:lato\,lato_embeddedfont\,lato_msfontservice\,sans-serif"> are joining together to provide a </span><strong>Blue Christmas Worship</strong><span style="background-color:rgb(255\, 255\, 255)\; font-family:lato\,lato_embeddedfont\,lato_msfontservice\,sans-serif"> that offers a quiet\, reflective space for prayer\, comfort\, and hope. Join us on </span><strong>Saturday December 20</strong><strong>th</strong><strong> at 6:30pm</strong><span style="background-color:rgb(255\, 255\, 255)\; font-family:lato\,lato_embeddedfont\,lato_msfontservice\,sans-serif"> in First Lutheran&rsquo\;s sanctuary as we gather to remember that the light of Christ shines even in our darkest days. &nbsp\;All are welcome. Come as you are.</span><span style="background-color:rgb(255\, 255\, 255)\; font-family:lato\,lato_embeddedfont\,lato_msfontservice\,sans-serif">&nbsp\;</span></span>
LOCATION:First Lutheran Church 100 Church Street Marshall MN First Lutheran's sanctuary
UID:e.499.22600
SEQUENCE:3
DTSTAMP:20260424T020523Z
URL:https://business.marshallmn.org/events/details/blue-christmas-worshipp-22600
END:VEVENT

END:VCALENDAR
