BEGIN:VCALENDAR
VERSION:2.0
PRODID:-//ChamberMaster//Event Calendar 2.0//EN
METHOD:PUBLISH
X-PUBLISHED-TTL:P3D
REFRESH-INTERVAL:P3D
CALSCALE:GREGORIAN
BEGIN:VEVENT
DTSTART:20150202T160000Z
DTEND:20150202T220000Z
X-MICROSOFT-CDO-ALLDAYEVENT:FALSE
SUMMARY:Blood Drive
DESCRIPTION:Lyon County Government Center Blood Drive\n\n607 West Main St.\n\nMarshall MN\n\n2nd floor of Government Center\, Commissioner Rooms 1&2\n\n\n\nTo schedule your appointment call 1-800-REDCROSS (800-733-2767) or sign up online @\n\nwww.redcrossblood.org\n\nEnter sponsor code: Lyon County
X-ALT-DESC;FMTTYPE=text/html:Lyon County Government Center Blood Drive<br />\n607 West Main St.<br />\nMarshall MN<br />\n2nd floor of Government Center\, Commissioner Rooms 1&amp\;2<br />\n<br />\nTo schedule your&nbsp\;appointment call 1-800-REDCROSS (800-733-2767) or sign up online @<br />\nwww.redcrossblood.org<br />\nEnter sponsor code: Lyon County
LOCATION:Lyon County Government Center 2nd Floor Commissioners Room
UID:e.499.1489
SEQUENCE:3
DTSTAMP:20260425T021130Z
URL:https://business.marshallmn.org/events/details/blood-drive-02-02-2015-1489
END:VEVENT

END:VCALENDAR
