BEGIN:VCALENDAR
VERSION:2.0
PRODID:-//ChamberMaster//Event Calendar 2.0//EN
METHOD:PUBLISH
X-PUBLISHED-TTL:P3D
REFRESH-INTERVAL:P3D
CALSCALE:GREGORIAN
BEGIN:VEVENT
DTSTART:20241130T150000Z
DTEND:20241130T190000Z
X-MICROSOFT-CDO-ALLDAYEVENT:FALSE
SUMMARY:Balaton's 36th Annual Holiday Craft and Vendor Show
DESCRIPTION:
X-ALT-DESC;FMTTYPE=text/html:
LOCATION:tru shrimp
UID:e.499.21853
SEQUENCE:3
DTSTAMP:20260423T112647Z
URL:https://business.marshallmn.org/events/details/balaton-s-36th-annual-holiday-craft-and-vendor-show-21853
END:VEVENT

END:VCALENDAR
