BEGIN:VCALENDAR
VERSION:2.0
PRODID:-//ChamberMaster//Event Calendar 2.0//EN
METHOD:PUBLISH
X-PUBLISHED-TTL:P3D
REFRESH-INTERVAL:P3D
CALSCALE:GREGORIAN
BEGIN:VEVENT
DTSTART:20171207T210000Z
DTEND:20171208T000000Z
X-MICROSOFT-CDO-ALLDAYEVENT:FALSE
SUMMARY:Baker's Market
DESCRIPTION:Feeling pinched for time this holiday season? Let our local bakers help you out. Sample & purchase your favorite goodies just in time for your holiday gatherings. Belgian Cookies\, Assorted Baked Goods\, Candies & Breads.
X-ALT-DESC;FMTTYPE=text/html:Feeling pinched for time this holiday season? Let our local bakers help you out. Sample &amp\; purchase your favorite goodies just in time for your holiday gatherings. Belgian Cookies\, Assorted Baked Goods\, Candies &amp\; Breads.
LOCATION:Ace Home & Hardware
UID:e.499.5452
SEQUENCE:3
DTSTAMP:20260420T000109Z
URL:https://business.marshallmn.org/events/details/baker-s-market-5452
END:VEVENT

END:VCALENDAR
