BEGIN:VCALENDAR
VERSION:2.0
PRODID:-//ChamberMaster//Event Calendar 2.0//EN
METHOD:PUBLISH
X-PUBLISHED-TTL:P3D
REFRESH-INTERVAL:P3D
CALSCALE:GREGORIAN
BEGIN:VEVENT
DTSTART:20250830T180000Z
DTEND:20250830T220000Z
X-MICROSOFT-CDO-ALLDAYEVENT:FALSE
SUMMARY:Back 2 School Event
DESCRIPTION:Get ready to Kick off the new school year with our Back to school event!
X-ALT-DESC;FMTTYPE=text/html:Get ready to Kick off the new school year with our Back to school event!
LOCATION:Freedom Park
UID:e.499.22138
SEQUENCE:3
DTSTAMP:20260423T210515Z
URL:https://business.marshallmn.org/events/details/back-2-school-event-22138
END:VEVENT

END:VCALENDAR
