BEGIN:VCALENDAR
VERSION:2.0
PRODID:-//ChamberMaster//Event Calendar 2.0//EN
METHOD:PUBLISH
X-PUBLISHED-TTL:P3D
REFRESH-INTERVAL:P3D
CALSCALE:GREGORIAN
BEGIN:VEVENT
DTSTART:20260509T130000Z
DTEND:20260509T160000Z
X-MICROSOFT-CDO-ALLDAYEVENT:FALSE
SUMMARY:Avera Race Against Cancer
DESCRIPTION:Events include a 5K or 1 mile walk or fun run. Your participation generously supports patients receiving services and care at the Avera Cancer Institute in Marshall. Bring your family\, join a team or start a fundraising page. Register by April 29 to have your t-shirt by event day!
X-ALT-DESC;FMTTYPE=text/html:Events include a 5K or 1 mile walk or fun run. Your participation generously supports patients receiving services and care at the Avera Cancer Institute in Marshall. Bring your family\, join a team or start a fundraising page. Register by April 29 to have your t-shirt by event day!
LOCATION:Independence Park\, located at East Lyon St.\, Marshall\, MN 56258.
UID:e.499.22861
SEQUENCE:3
DTSTAMP:20260424T010707Z
URL:https://business.marshallmn.org/events/details/avera-race-against-cancer-05-09-2026-22861
END:VEVENT

END:VCALENDAR
