BEGIN:VCALENDAR
VERSION:2.0
PRODID:-//ChamberMaster//Event Calendar 2.0//EN
METHOD:PUBLISH
X-PUBLISHED-TTL:P3D
REFRESH-INTERVAL:P3D
CALSCALE:GREGORIAN
BEGIN:VEVENT
DTSTART:20220623T150000Z
DTEND:20220623T170000Z
X-MICROSOFT-CDO-ALLDAYEVENT:FALSE
SUMMARY:Avera Marshall Hiring Event
DESCRIPTION:Come to this event if you are interested in:\n  Having a positive impact on the lives of patients! \n\n  Learning how we can pay for your college!\n\n  Hearing about our job opportunities\n\n  Building meaningful relationships with your teammates \n\n  Having an on the spot interview!
X-ALT-DESC;FMTTYPE=text/html:<span style="font-family:arial"><span style="font-size:18.0pt">Come to this event if you are interested in:</span></span>\n<div style="margin-left:40px"><span style="color:black"><span style="font-size:10.0pt"><span style="font-family:symbol">&middot\;</span></span></span>&nbsp\;<span style="font-family:arial"><span style="font-size:16.0pt">Having a </span></span><u><span style="font-family:arial"><span style="font-size:16.0pt">positive impact </span></span></u><span style="font-family:arial"><span style="font-size:16.0pt">on the lives of patients! </span></span><br />\n<span style="color:black"><span style="font-size:10.0pt"><span style="font-family:symbol">&middot\;</span></span></span>&nbsp\;<span style="font-family:arial"><span style="font-size:16.0pt">Learning how </span></span><u><span style="font-family:arial"><span style="font-size:16.0pt">we can pay for your college!</span></span></u><br />\n<span style="color:black"><span style="font-size:10.0pt"><span style="font-family:symbol">&middot\;</span></span></span>&nbsp\;<span style="font-family:arial"><span style="font-size:16.0pt">Hearing about our </span></span><u><span style="font-family:arial"><span style="font-size:16.0pt">job opportunities</span></span></u><br />\n<span style="color:black"><span style="font-size:10.0pt"><span style="font-family:symbol">&middot\;</span></span></span>&nbsp\;<span style="font-family:arial"><span style="font-size:16.0pt">Building </span></span><u><span style="font-family:arial"><span style="font-size:16.0pt">meaningful relationships </span></span></u><span style="font-family:arial"><span style="font-size:16.0pt">with your teammates </span></span><br />\n<span style="color:black"><span style="font-size:10.0pt"><span style="font-family:symbol">&middot\;</span></span></span>&nbsp\;<u><span style="font-family:arial"><span style="font-size:16.0pt">Having an on the spot interview!</span></span></u></div>\n&nbsp\;
LOCATION:WHERE: CareerForce Center\, 607 W. Main St. Marshall\, MN
UID:e.499.17797
SEQUENCE:3
DTSTAMP:20260425T213015Z
URL:https://business.marshallmn.org/events/details/avera-marshall-hiring-event-17797
END:VEVENT

END:VCALENDAR
