BEGIN:VCALENDAR
VERSION:2.0
PRODID:-//ChamberMaster//Event Calendar 2.0//EN
METHOD:PUBLISH
X-PUBLISHED-TTL:P3D
REFRESH-INTERVAL:P3D
CALSCALE:GREGORIAN
BEGIN:VEVENT
DTSTART:20250619T220000Z
DTEND:20250620T020000Z
X-MICROSOFT-CDO-ALLDAYEVENT:FALSE
SUMMARY:Anything but A Wine Glass Night
DESCRIPTION:"Anything but a wine glass night" is a fun evening at the Vineyard where you are encouraged to drink wine from anything except a traditional wine glass. Get creative\, but keep it classy. The focus on the evening will be celebrating friendship and enjoying a pour (or two) without the formality of wine glasses. Cheers!
X-ALT-DESC;FMTTYPE=text/html:<span style="background-color:rgb(255\, 255\, 255)\; color:rgb(8\, 8\, 9)\; font-family:segoe ui historic\,segoe ui\,helvetica\,arial\,sans-serif\; font-size:15px">&quot\;Anything but a wine glass night&quot\; is a fun evening at the Vineyard where you are encouraged to drink wine from anything except a traditional wine glass. Get creative\, but keep it classy. The focus on the evening will be celebrating friendship and enjoying a pour (or two) without the formality of wine glasses. Cheers!</span>
LOCATION:Painted Prairie Vineyard 1575 250th Ave. Currie\, MN 56123
UID:e.499.22254
SEQUENCE:3
DTSTAMP:20260423T184502Z
URL:https://business.marshallmn.org/events/details/anything-but-a-wine-glass-night-22254
END:VEVENT

END:VCALENDAR
