BEGIN:VCALENDAR
VERSION:2.0
PRODID:-//ChamberMaster//Event Calendar 2.0//EN
METHOD:PUBLISH
X-PUBLISHED-TTL:P3D
REFRESH-INTERVAL:P3D
CALSCALE:GREGORIAN
BEGIN:VEVENT
DTSTART:20260321T210000Z
DTEND:20260321T230000Z
X-MICROSOFT-CDO-ALLDAYEVENT:FALSE
SUMMARY:Adult Easter Egg and Wine Hunt
DESCRIPTION:Adult Easter Egg and Wine Hunt  March 21st at 4 p.m. \n\n \n\nWho said Easter Egg Hunts are just for kids?!?\n\n \n\nJoin us for a fun Easter Egg and Wine Adventure in the Vineyard! Saturday\, March 21st from 4:00-6:00 pm (the Hunt starts at 4:00 p.m.\, sharp!) Please arrive at 3:30 p.m. to check in and get last-minute instructions.\n\n \n\nTicket: $45\n\n \n\nYour ticket includes:\n\n \n\n- 1 bottle of wine\n\n- 5 colored eggs with guaranteed prizes\n\n- Charcuterie board spread filled with delicious eats\n\n \n\nJust like when you were a kid\, you will receive a bag and color-coded egg list.\n\nThen\, hunt to find all five colored eggs and a bottle of wine in the vineyard! \n\nSnack on a charcuterie board after your hard work is complete!\n\nThis year\, 6 golden eggs will be hidden with larger prizes valued up to $300.\n\n \n\nParticipants must be 21+\n\n \n\nTickets for this event are non-refundable. ***Our snow make-up date will be Saturday\, April 4th at 4:00 p.m.\n\n2026 Adult Easter Egg and Wine Hunt | Painted Prairie Vineyard
X-ALT-DESC;FMTTYPE=text/html:<div>Adult Easter Egg and Wine Hunt&nbsp\; March 21<sup>st</sup>&nbsp\;at 4 p.m.&nbsp\;</div>\n\n<div>&nbsp\;</div>\n\n<div><span style="font-size:12pt">Who said Easter Egg Hunts are just for kids?!?</span></div>\n\n<div>&nbsp\;</div>\n\n<div>Join us for a fun Easter Egg and Wine Adventure in the Vineyard!&nbsp\;<span style="font-size:12pt">Saturday\, March 21st from 4:00-6:00 pm (the Hunt starts at 4:00 p.m.\, sharp!) Please arrive at 3:30 p.m. to check in and get last-minute instructions.</span></div>\n\n<div>&nbsp\;</div>\n\n<div>Ticket: $45</div>\n\n<div>&nbsp\;</div>\n\n<div>Your ticket includes:</div>\n\n<div>&nbsp\;</div>\n\n<div>- 1 bottle of wine</div>\n\n<div>- 5 colored eggs with guaranteed prizes</div>\n\n<div>- Charcuterie board spread filled with delicious eats</div>\n\n<div>&nbsp\;</div>\n\n<div>Just like when you were a kid\, you will receive a bag and color-coded egg list.</div>\n\n<div>Then\, hunt to find all five colored eggs and a bottle of wine in the vineyard!&nbsp\;</div>\n\n<div>Snack on a charcuterie board after your hard work is complete!</div>\n\n<div>This year\, 6 golden eggs will be hidden with larger prizes valued up to $300.</div>\n\n<div>&nbsp\;</div>\n\n<div>Participants must be 21+</div>\n\n<div>&nbsp\;</div>\n\n<div>Tickets for this event are non-refundable. ***Our snow make-up date will be Saturday\, April 4th at 4:00 p.m.</div>\n\n<div><a class="x_OWAAutoLink" href="https://painted-prairie-vineyard.square.site/product/2026-adult-easter-egg-and-wine-hunt/PGZQG5LGLLS54JSIRKQPKVWT?cp=true&amp\;sa=false&amp\;sbp=false&amp\;q=false&amp\;category_id=WLJXP7O2TNSJOOAVXGCVUKA3" id="OWA3dd118b5-d5c1-42a4-4470-28fc0086f45d" rel="noopener noreferrer" style="border: 0px\; font: inherit\; margin: 0px\; padding: 0px\; vertical-align: baseline\;" target="_blank" title="https://painted-prairie-vineyard.square.site/product/2026-adult-easter-egg-and-wine-hunt/PGZQG5LGLLS54JSIRKQPKVWT?cp=true&amp\;sa=false&amp\;sbp=false&amp\;q=false&amp\;category_id=WLJXP7O2TNSJOOAVXGCVUKA3">2026 Adult Easter Egg and Wine Hunt | Painted Prairie Vineyard</a></div>\n
LOCATION:Painted Prairie Vineyard 1575 250th Ave. Currie\, MN 56123
UID:e.499.22883
SEQUENCE:3
DTSTAMP:20260424T010619Z
URL:https://business.marshallmn.org/events/details/adult-easter-egg-and-wine-hunt-03-21-2026-22883
END:VEVENT

END:VCALENDAR
