BEGIN:VCALENDAR
VERSION:2.0
PRODID:-//ChamberMaster//Event Calendar 2.0//EN
METHOD:PUBLISH
X-PUBLISHED-TTL:P3D
REFRESH-INTERVAL:P3D
CALSCALE:GREGORIAN
BEGIN:VEVENT
DTSTART:20220309T174500Z
DTEND:20220309T190000Z
X-MICROSOFT-CDO-ALLDAYEVENT:FALSE
SUMMARY:2022 State of the City Address
DESCRIPTION:The Marshall Area Chamber of Commerce cordially invites you to attend the 2022 State of the City Address featuring Mayor Bob Byrnes and City Administrator\, Sharon Hanson. Hear about the City's 2021 accomplishments\, challenges and their vision for Marshall's future.\n\n\n\nThank you to the following Corporate Sponsors:  Avera Marshall\, Schwan's Company\, Southwest Minnesota State University\, Bremer Bank\, US Bank\, Ralco\, City of Marshall\, Action Manufacturing\, ADM\, Marshall Downtown Business Association & Schwan's Home Service\n\n\n\nThank you to the following Presenting Sponsors: Henle Printing\, North Risk Partners\, Hoffman and Brobst\, Great Western Bank\, Truck Center Companies\, Everspring Inn & Suites\, Heartland Electric
X-ALT-DESC;FMTTYPE=text/html:<div><span style="color:#0f0b0b">The Marshall Area Chamber of Commerce cordially invites you to attend the <strong>2022&nbsp\;State of the City Address </strong>featuring Mayor Bob Byrnes and City Administrator\, Sharon Hanson. </span><span style="color:#0f0b0b">Hear about the City&#39\;s 2021&nbsp\;accomplishments\, challenges and their vision for Marshall&#39\;s future.<br />\n<br />\nThank you to the following Corporate Sponsors:&nbsp\; <a href="http://www.avera.org">Avera Marshall</a>\, <a href="http://www.schwanscompany.com">Schwan&#39\;s Company</a>\, <a href="http://www.smsu.edu">Southwest Minnesota State University</a>\, <a href="http://www.bremer.com">Bremer Bank</a>\, <a href="http://www.usbank.com">US Bank</a>\, <a href="http://ralcoagriculture.com/">Ralco</a>\, <a href="https://ci.marshall.mn.us/">City of Marshall</a>\, <a href="http://actiontrackchair.com/">Action Manufacturing</a>\, <a href="https://www.adm.com/">ADM</a>\, <a href="https://marshallmn.org/committees/downtown-mdba/">Marshall Downtown Business Association</a>&nbsp\;&amp\; <a href="http://www.schwans.com">Schwan&#39\;s Home Service</a><br />\n<br />\nThank you to the following Presenting Sponsors: <a href="https://www.henleprinting.com/">Henle Printing</a>\, <a href="https://northriskpartners.com/">North Risk Partners</a>\, <a href="https://www.hoffmanbrobst.com/">Hoffman and Brobst\,</a>&nbsp\;<a href="https://www.greatwesternbank.com/">Great Western Bank\,</a>&nbsp\;<a href="https://truckcentercompanies.com/">Truck Center Companies\,</a>&nbsp\;<a href="https://everspringinn.com/">Everspring Inn &amp\; Suites</a>\, <a href="https://www.facebook.com/electrician103/">Heartland Electric</a></span></div>\n
LOCATION:Upper Conference Center Southwest Minnesota State University 1501 State Street https://www.smsu.edu/map/
UID:e.499.17279
SEQUENCE:3
DTSTAMP:20260426T012815Z
URL:https://business.marshallmn.org/events/details/2022-state-of-the-city-address-17279
END:VEVENT

END:VCALENDAR
