BEGIN:VCALENDAR
VERSION:2.0
PRODID:-//ChamberMaster//Event Calendar 2.0//EN
METHOD:PUBLISH
X-PUBLISHED-TTL:P3D
REFRESH-INTERVAL:P3D
CALSCALE:GREGORIAN
BEGIN:VEVENT
DTSTART:20220122T000000Z
DTEND:20220122T030000Z
X-MICROSOFT-CDO-ALLDAYEVENT:FALSE
SUMMARY:10th Annual Brau Brothers Brewing Beer Pairing Dinner
DESCRIPTION:Join us for our 10th Annual Brau Brothers Brewing Beer Pairing Dinner. All funds raised at this event will support the local work of United Way of Southwest Minnesota.\n\nCheck back in December\, 2021 for full details and ticket information.
X-ALT-DESC;FMTTYPE=text/html:<div class="kvgmc6g5 cxmmr5t8 oygrvhab hcukyx3x c1et5uql" style="overflow-wrap: break-word\; margin: 0px\; font-family: &quot\;Segoe UI Historic&quot\;\, &quot\;Segoe UI&quot\;\, Helvetica\, Arial\, sans-serif\; color: rgb(5\, 5\, 5)\; font-size: 15px\;">Join us for our 10th Annual Brau Brothers Brewing Beer Pairing Dinner. All funds raised at this event will support the local work of United Way of Southwest Minnesota.</div>\n\n<div class="o9v6fnle cxmmr5t8 oygrvhab hcukyx3x c1et5uql" style="overflow-wrap: break-word\; margin: 0.5em 0px 0px\; font-family: &quot\;Segoe UI Historic&quot\;\, &quot\;Segoe UI&quot\;\, Helvetica\, Arial\, sans-serif\; color: rgb(5\, 5\, 5)\; font-size: 15px\;">Check back in December\, 2021 for full details and ticket information.</div>\n
LOCATION:Brau Brothers Brewing Co. 1010 E. Southview Drive Marshall\, MN 56258
UID:e.499.16795
SEQUENCE:3
DTSTAMP:20260426T033022Z
URL:https://business.marshallmn.org/events/details/10th-annual-brau-brothers-brewing-beer-pairing-dinner-16795
END:VEVENT

END:VCALENDAR
